Workbook
Name Customer: [1]!Table1[Customer]

Sheet INTER DATA
A1: N | B1: Customer | C1: line | D1: Clear by: | E1: State | F1: Date of Confirm | G1: WayBill | H1: Goods | I1: Comment | J1: CTN | K1: Gross W | L1: Net Price/kg | M1: X | N1: Y | O1: Z | P1: Volumertic | Q1: Brand/Report | R1: Pick up… | S1: clearance | T1: Total Net (RMB) | U1: RMB Rate | V1: Total Net (Rial) | W1: قبض انبار | X1: هر کیلو ترخیص | Y1: ترخیص | Z1: حمل داخلی | AA1: نت نهایی ریالی | AB1: RMB Sale | AC1: وزن واقعی ترخیص | AD1: وزن محاسبه حمل | AE1: فروش هر کیلو | AF1: برند یا پیک اپ | AG1: جمع یوان | AH1: ریالی حمل | AI1: هزینه حمل داخلی | AJ1: هزینه ترخیص هر کیلو | AK1: ترخیص | AL1: جمع فاکتور | AM1: صدور فاکتور | AN1: P Received 1 | AO1: P Received 2 | AP1: بدهی | AQ1: Commission | AR1: سود ناخالص | AS1: Benefit | AT1: % | AU1: Mohammadi | AV1: % | AW1: Ghorbanian | AX1: % | AY1: Parsa
A2: 97 | B2: محمد رئیسی | C2: PEX | D2: PEX | E2: Cleared | G2: PEX26081301 | H2: Oil Seal | J2: 1 | K2: 10.5 | L2: 58 | M2: 25 | N2: 26 | O2: 39 | P2: =O2*N2*M2/5000 -> 5.07 | T2: =(K2*L2)+S2+R2+Q2 -> 609 | U2: 306500 | V2: =T2*U2 -> 186658500 | X2: 7000000 | Y2: =X2*K2 -> 73500000 | AA2: =(U2*T2)+W2+Y2+Z2+AQ2 -> 260158500 | AB2: 306500 | AC2: =K2 -> 10.5 | AD2: =_xlfn.CEILING.MATH(MAX(K2,P2), 0.5) -> 10.5 | AE2: 66 | AG2: =AE2*AD2+AF2 -> 693 | AH2: =AG2*AB2 -> 212404500 | AJ2: 9800000 | AK2: =AJ2*AC2 -> 102900000 | AL2: =AG2*AB2+AK2+AI2+AF2 -> 315304500 | AM2: 46257 | AP2: =AL2-AN2-AO2 -> 315304500 | AU2: =AS2*AT2/100 -> 0 | AW2: =AS2*AV2/100 -> 0 | AY2: =AS2*AX2/100 -> 0
A3: 98 | B3: محمد رئیسی | C3: PEX | D3: PEX | E3: Generated | G3: PEX26081103 | H3: Liner Guide Block & Sensor | J3: 2 | K3: 8 | L3: 58 | M3: 19 | N3: 31 | O3: 37 | P3: 8.5 | T3: =(K3*L3)+S3+R3+Q3 -> 464 | U3: 306500 | V3: =T3*U3 -> 142216000 | X3: =70000000/8 -> 8750000 | Y3: =X3*K3 -> 70000000 | AA3: =(U3*T3)+W3+Y3+Z3+AQ3 -> 212216000 | AB3: 306500 | AC3: =K3 -> 8 | AD3: =_xlfn.CEILING.MATH(MAX(K3,P3), 0.5) -> 8.5 | AE3: 68 | AG3: =AE3*AD3+AF3 -> 578 | AH3: =AG3*AB3 -> 177157000 | AJ3: =130000000/8 -> 16250000 | AK3: =AJ3*AC3 -> 130000000 | AL3: =AG3*AB3+AK3+AI3+AF3 -> 307157000 | AM3: 46257 | AP3: =AL3-AN3-AO3 -> 307157000 | AU3: =AS3*AT3/100 -> 0 | AW3: =AS3*AV3/100 -> 0 | AY3: =AS3*AX3/100 -> 0
P4: =O4*N4*M4/5000 -> 0 | AA4: =(U4*T4)+W4+Y4+Z4+AQ4 -> 0 | AC4: =K4 -> 0 | AD4: =_xlfn.CEILING.MATH(MAX(K4,P4), 0.5) -> 0 | AU4: =AS4*AT4/100 -> 0 | AW4: =AS4*AV4/100 -> 0 | AY4: =AS4*AX4/100 -> 0
P5: =O5*N5*M5/5000 -> 0 | AA5: =(U5*T5)+W5+Y5+Z5+AQ5 -> 0 | AC5: =K5 -> 0 | AD5: =_xlfn.CEILING.MATH(MAX(K5,P5), 0.5) -> 0 | AU5: =AS5*AT5/100 -> 0 | AW5: =AS5*AV5/100 -> 0 | AY5: =AS5*AX5/100 -> 0
AA6: =(U6*T6)+W6+Y6+Z6+AQ6 -> 0 | AC6: =K6 -> 0 | AD6: =_xlfn.CEILING.MATH(MAX(K6,P6), 0.5) -> 0 | AP6: =AL6-AN6-AO6 -> 0
AA7: =(U7*T7)+W7+Y7+Z7+AQ7 -> 0 | AC7: =K7 -> 0 | AD7: =_xlfn.CEILING.MATH(MAX(K7,P7), 0.5) -> 0 | AP7: =AL7-AN7-AO7 -> 0
AA8: =(U8*T8)+W8+Y8+Z8+AQ8 -> 0 | AC8: =K8 -> 0 | AD8: =_xlfn.CEILING.MATH(MAX(K8,P8), 0.5) -> 0 | AP8: =AL8-AN8-AO8 -> 0
AA9: =(U9*T9)+W9+Y9+Z9+AQ9 -> 0 | AC9: =K9 -> 0 | AD9: =_xlfn.CEILING.MATH(MAX(K9,P9), 0.5) -> 0 | AP9: =AL9-AN9-AO9 -> 0
AA10: =(U10*T10)+W10+Y10+Z10+AQ10 -> 0 | AC10: =K10 -> 0 | AD10: =_xlfn.CEILING.MATH(MAX(K10,P10), 0.5) -> 0 | AP10: =AL10-AN10-AO10 -> 0
AA11: =(U11*T11)+W11+Y11+Z11+AQ11 -> 0 | AC11: =K11 -> 0 | AD11: =_xlfn.CEILING.MATH(MAX(K11,P11), 0.5) -> 0 | AP11: =AL11-AN11-AO11 -> 0

Sheet ENG Invoice
B4: INVOICE TO | D4: =_xlfn.XLOOKUP(H7,'INTER DATA'!G:G,'INTER DATA'!B:B) -> محمد رئیسی | E4: آقای/خانم: | F4: We Deliver Value
B6: Address:
F7: Invoice No. | H7: PEX26081301
F8: Date | H8: =_xlfn.XLOOKUP(H7,'INTER DATA'!G:G,'INTER DATA'!AM:AM) -> 46257
F9: Origin | H9: China
B10: Phone Number : | F10: Transport | H10: Air Freight
F11: Customs | H11: Imam Khomeini Airport
B12: SHIPMENT DETAILS
B14: Actual Weight: | C14: =_xlfn.XLOOKUP(H7,'INTER DATA'!G:G,'INTER DATA'!AC:AC) -> 10.5 | D14: Volume: | E14: =_xlfn.XLOOKUP(H7,'INTER DATA'!G:G,'INTER DATA'!M:M)&"*"&_xlfn.XLOOKUP(H7,'INTER DATA'!G:G,'INTER DATA'!N:N)&"*"&_xlfn.XLOOKUP(H7,'INTER DATA'!G:G,'INTER DATA'!O:O) -> 25*26*39 | F14: Volometric Weight: | G14: =_xlfn.XLOOKUP(H7,'INTER DATA'!G:G,'INTER DATA'!P:P) -> 5.07 | H14: Chargeable Weight: | I14: =_xlfn.XLOOKUP(H7,'INTER DATA'!G:G,'INTER DATA'!AD:AD) -> 10.5
B15: Goods Nature: | C15: =_xlfn.XLOOKUP(H7,'INTER DATA'!G:G,'INTER DATA'!H:H) -> Oil Seal | D15: Exchange Rate
B17: No. | C17: Item Description | D17: Unit | E17: Qty | F17: Unit Price | G17: Total (Currency) | H17: Total (Rial) | I17: Notes
B18: 1 | C18: International Freight | D18: kg | E18: =_xlfn.XLOOKUP(H7,'INTER DATA'!G:G,'INTER DATA'!AD:AD) -> 10.5 | F18: =_xlfn.XLOOKUP(H7,'INTER DATA'!G:G,'INTER DATA'!AE:AE) -> 66 | G18: =_xlfn.XLOOKUP(H7,'INTER DATA'!G:G,'INTER DATA'!AG:AG) -> 693 | H18: =_xlfn.XLOOKUP(H7,'INTER DATA'!G:G,'INTER DATA'!AH:AH) -> 212404500
B19: 2 | C19: Pick Up Fee | E19: 0 | F19: 0 | G19: =IF(OR(E19=0,F19=0),0,E19*F19) -> 0 | H19: 0
B20: 3 | C20: Brand Fee | E20: 0 | F20: 0 | G20: =IF(OR(E20=0,F20=0),0,E20*F20) -> 0 | H20: 0
B21: 4 | C21: Report Fee | E21: 0 | F21: 0 | G21: =IF(OR(E21=0,F21=0),0,E21*F21) -> 0 | H21: 0
B22: 5 | C22: Other Charges | E22: 0 | F22: 0 | G22: =IF(OR(E22=0,F22=0),0,E22*F22) -> 0 | H22: 0
B23: 6 | C23: Customs Clearance | D23: service | E23: =_xlfn.XLOOKUP(H7,'INTER DATA'!G:G,'INTER DATA'!AC:AC) -> 10.5 | F23: =_xlfn.XLOOKUP(H7,'INTER DATA'!G:G,'INTER DATA'!AJ:AJ) -> 9800000 | G23: =IFERROR(E23*F23/C31,0) -> 335.72594 | H23: =_xlfn.XLOOKUP(H7,'INTER DATA'!G:G,'INTER DATA'!AK:AK) -> 102900000
B24: 7 | C24: Domestic Transport | E24: 0 | F24: 0 | G24: =IF(OR(E24=0,F24=0),0,E24*F24) -> 0 | H24: 0
B25: 8 | C25: Warehousing Fee | E25: 0 | F25: 0 | G25: =IF(OR(E25=0,F25=0),0,E25*F25) -> 0 | H25: 0
B26: 9 | C26: Order Registration Fee | E26: 0 | F26: 0 | G26: =IF(OR(E26=0,F26=0),0,E26*F26) -> 0 | H26: 0
B27: 10 | C27: Other Clearance Charges | E27: 0 | F27: 0 | G27: =IF(OR(E27=0,F27=0),0,E27*F27) -> 0 | H27: 0
E29: Freight Subtotal | G29: =SUM(G18:G22) -> 693 | H29: =SUM(H18:H22) -> 212404500
C30: Currency Rate: | E30: Clearance Subtotal | G30: =SUM(G23:G27) -> 335.72594 | H30: =SUM(H23:H27) -> 102900000
C31: =_xlfn.XLOOKUP(H7,'INTER DATA'!G:G,'INTER DATA'!AB:AB) -> 306500 | E31: TOTAL | G31: =SUM(G29:G30) -> 1028.7259 | H31: =SUM(H18:H27) -> 315304500
B34: TERMS & CONDITIONS
B35: This proforma invoice is issued based on the shipment weight declared by the customer. Final weight and dimensions will be determined after re-weighing at the destination customs. | G35: Authorised Signature

Sheet Proforma
E1: تاریخ: | F1: 1405/06/01 | G1: شماره بارنامه: | H1: PEX26081301
A2: مشخصات خریدار( سفارش دهنده یا صاحب مرسوله)
A3: نام : | B3: =_xlfn.XLOOKUP(H1,'INTER DATA'!G:G,'INTER DATA'!B:B) -> محمد رئیسی | E3: شماره تلفن همراه :
A4: نشاني :
A5: مشخصات کالا (مرسوله)
A6: مبداء: | B6: چین | D6: وزن جرمی | E6: =_xlfn.XLOOKUP(H1,'INTER DATA'!G:G,'INTER DATA'!AC:AC) -> 10.5 | F6: ماهیت کالا | G6: =VLOOKUP(H1,'INTER DATA'!G:AY,2,FALSE) -> Oil Seal
A7: نوع حمل: | B7: هوایی | D7: ابعاد: | E7: =_xlfn.XLOOKUP(H1,'INTER DATA'!G:G,'INTER DATA'!M:M)*_xlfn.XLOOKUP(H1,'INTER DATA'!G:G,'INTER DATA'!N:N)*_xlfn.XLOOKUP(H1,'INTER DATA'!G:G,'INTER DATA'!O:O) -> 25350 | F7: ارزش کالا
A8: گمرک: | B8: فرودگاه امام | D8: وزن حجمی | E8: =_xlfn.XLOOKUP(H1,'INTER DATA'!G:G,'INTER DATA'!AD:AD) -> 10.5 | F8: نرخ ارز | G8: =_xlfn.XLOOKUP(H1,'INTER DATA'!G:G,'INTER DATA'!AB:AB) -> 306500
A9: خدمات حمل بین المللی
A10: رديف | B10: شرح خدمات حمل | C10: تعداد | D10: واحد | E10: مبلغ واحد | F10: مبلغ کل ارزی | G10: مبلغ كل ریالی | H10: توضیحات
A11: 1 | B11: هزینه حمل بین الملل | C11: =_xlfn.XLOOKUP(H1,'INTER DATA'!G:G,'INTER DATA'!AD:AD) -> 10.5 | D11: کیلو | E11: =VLOOKUP(H1,'INTER DATA'!G:AY,25,FALSE) -> 66 | F11: =C11*E11 -> 693 | G11: =F11*G8 -> 212404500
A12: 2 | B12: هزینه حمل داخلی مبداء | C12: 0
A13: 3 | B13: هزینه کالای برند | C13: 0
A14: 4 | B14: هزینه ریپورت | C14: 0
A15: 5 | B15: هزینه های متفرقه
E16: جمع کل حمل : | F16: =SUM(F11:F15) -> 693 | G16: =SUM(G11:G15) -> 212404500
A17: خدمات ترخیص
A18: رديف | B18: شرح خدمات ترخیص | C18: تعداد | D18: واحد | E18: مبلغ واحد | F18: مبلغ كل | G18: مبلغ كل ریالی | H18: توضیحات
A19: 1 | B19: هزینه ترخیص از گمرک | C19: =_xlfn.XLOOKUP(H1,'INTER DATA'!G:G,'INTER DATA'!AC:AC) -> 10.5 | D19: کیلو | E19: =_xlfn.XLOOKUP(H1,'INTER DATA'!G:G,'INTER DATA'!AJ:AJ) -> 9800000 | F19: =E19*C19 -> 102900000 | G19: =_xlfn.XLOOKUP(H1,'INTER DATA'!G:G,'INTER DATA'!AK:AK) -> 102900000
A20: 2 | B20: هزینه حمل از گمرک به مقصد | C20: 0 | F20: =_xlfn.XLOOKUP(H1,'INTER DATA'!G:G,'INTER DATA'!AI:AI) -> 0 | G20: =F20 -> 0
A21: 3 | B21: هزینه انبارداری | C21: 0
A22: 4 | B22: هزینه ثبت سفارش | C22: 0
A23: 5 | B23: هزینه های متفرقه
E24: جمع کل ترخیص : | F24: =SUM(F19:F23) -> 102900000 | G24: =SUM(G19:G23) -> 102900000
F26: مبلغ کل حمل و ترخیص : | G26: =G24+G16 -> 315304500
A27: توضیحات : | B27: پیش فاکتور صادر شده براساس وزن اعلامی مشتری می باشد و وزن نهائی و ابعاد ، هنگام وزن کشی مجدد در گمرک مقصد لحاظ می گردد.

Sheet Invoice
E1: تاریخ: | F1: 1405/05/31 | G1: شماره بارنامه: | H1: PEX26081301
A2: مشخصات خریدار( سفارش دهنده یا صاحب مرسوله)
A3: نام: خانم/آقای | B3: =_xlfn.XLOOKUP(H1,'INTER DATA'!G:G,'INTER DATA'!B:B) -> محمد رئیسی | E3: شماره تلفن همراه :
A4: نشاني :
A5: مشخصات کالا (مرسوله)
A6: مبداء: | B6: امارات | D6: وزن جرمی | E6: =_xlfn.XLOOKUP(H1,'INTER DATA'!G:G,'INTER DATA'!AC:AC) -> 10.5 | F6: ماهیت کالا | G6: =VLOOKUP(H1,'INTER DATA'!G:AY,2,FALSE) -> Oil Seal
A7: نوع حمل: | B7: هوایی | D7: ابعاد: | E7: =_xlfn.XLOOKUP(H1,'INTER DATA'!G:G,'INTER DATA'!M:M)*_xlfn.XLOOKUP(H1,'INTER DATA'!G:G,'INTER DATA'!N:N)*_xlfn.XLOOKUP(H1,'INTER DATA'!G:G,'INTER DATA'!O:O) -> 25350 | F7: ارزش کالا
A8: گمرک: | B8: فرودگاه امام | D8: وزن حجمی | E8: =_xlfn.XLOOKUP(H1,'INTER DATA'!G:G,'INTER DATA'!P:P) -> 5.07 | F8: نرخ ارز | G8: =_xlfn.XLOOKUP(H1,'INTER DATA'!G:G,'INTER DATA'!AB:AB) -> 306500
A9: خدمات حمل بین المللی
A10: رديف | B10: شرح خدمات حمل | C10: تعداد | D10: واحد | E10: مبلغ واحد | F10: مبلغ کل ارزی | G10: مبلغ كل ریالی | H10: توضیحات
A11: 1 | B11: هزینه حمل بین الملل | C11: =_xlfn.XLOOKUP(H1,'INTER DATA'!G:G,'INTER DATA'!AD:AD) -> 10.5 | D11: کیلو | E11: =VLOOKUP(H1,'INTER DATA'!G:AY,25,FALSE) -> 66 | F11: =C11*E11 -> 693 | G11: =F11*G8 -> 212404500
A12: 2 | B12: هزینه حمل داخلی مبداء | C12: 1 | D12: عدد | E12: =_xlfn.XLOOKUP(H1,'INTER DATA'!G:G,'INTER DATA'!AF:AF) -> 0 | F12: =E12*G8 -> 0 | G12: =F12 -> 0
A13: 3 | B13: هزینه کالای برند | C13: 0
A14: 4 | B14: هزینه ریپورت | C14: 0
A15: 5 | B15: هزینه متفرقه | C15: 0
E16: جمع کل حمل : | F16: =SUM(F11:F15) -> 693 | G16: =SUM(G11:G15) -> 212404500
A17: خدمات ترخیص
A18: رديف | B18: شرح خدمات ترخیص | C18: تعداد | D18: واحد | E18: مبلغ واحد | F18: مبلغ كل | G18: مبلغ كل ریالی | H18: توضیحات
A19: 1 | B19: هزینه ترخیص از گمرک | C19: =_xlfn.XLOOKUP(H1,'INTER DATA'!G:G,'INTER DATA'!AC:AC) -> 10.5 | D19: کیلو | E19: =_xlfn.XLOOKUP(H1,'INTER DATA'!G:G,'INTER DATA'!AJ:AJ) -> 9800000 | F19: =E19*C19 -> 102900000 | G19: =_xlfn.XLOOKUP(H1,'INTER DATA'!G:G,'INTER DATA'!AK:AK) -> 102900000
A20: 2 | B20: هزینه حمل از گمرک به مقصد | C20: 1 | D20: عدد | E20: =F20 -> 0 | F20: =_xlfn.XLOOKUP(H1,'INTER DATA'!G:G,'INTER DATA'!AI:AI) -> 0 | G20: =F20 -> 0
A21: 3 | B21: هزینه انبارداری | C21: 0
A22: 4 | B22: هزینه ثبت سفارش | C22: 0
A23: 5 | B23: هزینه های قبض انبار | F23: =E23*C23 -> 0 | G23: =F23*G8 -> 0
E24: جمع کل ترخیص : | F24: =SUM(F19:F23) -> 102900000 | G24: =SUM(G19:G23) -> 102900000
E26: جمع کل حمل و ترخیص : | G26: =G24+G16 -> 315304500
A27: توضیحات : | B27: مبلغ این فاکتور تا 24 ساعت معتبر می باشد

Sheet CUSTOMER REPORT
A1: نام مشتری | D1: جمع فاکتور | E1: P Received 1 | F1: P Received 2 | G1: مجموع | H1: بدهی | I1: Commission | J1: سود ناخالص | K1: Benefit
A2: محمد رئیسی | D2: {=_xlfn._xlws.FILTER('INTER DATA'!AL:AT,'INTER DATA'!B:B='CUSTOMER REPORT'!A2)} -> 315304500 | E2: 46257 | F2: 0 | G2: 0 | H2: 315304500 | I2: 0 | J2: 0 | K2: 0 | L2: 0
D3: 307157000 | E3: 46257 | F3: 0 | G3: 0 | H3: 307157000 | I3: 0 | J3: 0 | K3: 0 | L3: 0
A7: جمع فاکتورها | B7: =SUMIF('INTER DATA'!B:B,'CUSTOMER REPORT'!A2,'INTER DATA'!AL:AL) -> 622461500
A8: جمع دریافتی ها1 | B8: =SUMIF('INTER DATA'!B:B,'CUSTOMER REPORT'!A2,'INTER DATA'!AN:AN)+SUMIF('INTER DATA'!B:B,'CUSTOMER REPORT'!A2,'INTER DATA'!AO:AO) -> 0
A9: جمع دریافتی ها2 | B9: =SUMIF('ACOUNT '!G:G,'CUSTOMER REPORT'!A2,'ACOUNT '!E:E) -> 50000000
A11: بدهی | B11: =B7-B8-B9 -> 572461500

Sheet CUSTOMER LIST & TRACKING
A1: Customer | D1: Check points
A2: محمد رئیسی | D2: Generated
D3: Shipper sent to Warhouse
D4: Recived at Guangzhou Warhouse
D5: Confirm to Ship
D6: Departed from China
D7: Arrived at IKA
D8: IKA Customs
D9: Warhouse Recipte Issued
D10: Cleared
D11: Awating for Payment
D12: Delivered
D13: Suspend
D14: Canseled
... D16: Proforma

Sheet ACOUNT 
A1: شماره سند | B1: تاریخ | C1: شرکاء | D1: مبلغ پرداختی | E1: مبلغ دریافتی | F1: به/از حساب | G1: نام طرف حساب | H1: بابت | I1: شماره بارنامه | J1: شرح | K1: نام واریز کننده/دریافت کننده | L1: بانک | M1: ارز | N1: نرخ ارز | O1: جمع پرداخت ها | P1: جمع دریافت ها | Q1: مانده نهایی
A2: 1 | B2: 1405/05/17 | C2: قربانیان | E2: 50000000 | F2: قرض الحسنه فرتاک | G2: محمد رئیسی | H2: فاکتور فروش | L2: ملی
A3: 29 | B3: 1405/05/29 | C3: محمدی | D3: 4700000 | F3: بلو | G3: باربری | H3: حمل داخلی | I3: PEX26072901 | J3: کرایه تهران به اصفهان بار سلمانی زاده | K3: پیک صبا | L3: کارت
